BEGIN:VCALENDAR
VERSION:2.0
PRODID:-//Ben Lytle - ECPv6.14.0//NONSGML v1.0//EN
CALSCALE:GREGORIAN
METHOD:PUBLISH
X-ORIGINAL-URL:https://potentialistfuture.com
X-WR-CALDESC:Events for Ben Lytle
REFRESH-INTERVAL;VALUE=DURATION:PT1H
X-Robots-Tag:noindex
X-PUBLISHED-TTL:PT1H
BEGIN:VTIMEZONE
TZID:UTC
BEGIN:STANDARD
TZOFFSETFROM:+0000
TZOFFSETTO:+0000
TZNAME:UTC
DTSTART:20220101T000000
END:STANDARD
END:VTIMEZONE
BEGIN:VEVENT
DTSTART;TZID=UTC:20221011T114500
DTEND;TZID=UTC:20221011T130000
DTSTAMP:20260420T072100
CREATED:20221102T172205Z
LAST-MODIFIED:20221102T172205Z
UID:2597-1665488700-1665493200@potentialistfuture.com
SUMMARY:How to Navigate the Next 30 Years to Elevate Your Life & The World with Ben Lytle
DESCRIPTION:
URL:https://potentialistfuture.com/event/how-to-navigate-the-next-30-years-to-elevate-your-life-the-world-with-ben-lytle/
LOCATION:Texas
END:VEVENT
BEGIN:VEVENT
DTSTART;VALUE=DATE:20221013
DTEND;VALUE=DATE:20221014
DTSTAMP:20260420T072100
CREATED:20221102T172412Z
LAST-MODIFIED:20221102T172412Z
UID:2598-1665619200-1665705599@potentialistfuture.com
SUMMARY:What’s nEXt: How to be a “Potentialist” to Seize Opportunity from Future Disruption
DESCRIPTION:
URL:https://potentialistfuture.com/event/whats-next-how-to-be-a-potentialist-to-seize-opportunity-from-future-disruption/
LOCATION:Texas
END:VEVENT
BEGIN:VEVENT
DTSTART;TZID=UTC:20221020T120000
DTEND;TZID=UTC:20221020T140000
DTSTAMP:20260420T072100
CREATED:20221102T172656Z
LAST-MODIFIED:20221102T172656Z
UID:2599-1666267200-1666274400@potentialistfuture.com
SUMMARY:The Future of Small Business—What Everyone Needs to Know & What to Do About It!
DESCRIPTION:
URL:https://potentialistfuture.com/event/the-future-of-small-business-what-everyone-needs-to-know-what-to-do-about-it/
LOCATION:Fairfield County\, CT
END:VEVENT
BEGIN:VEVENT
DTSTART;TZID=UTC:20221025T150000
DTEND;TZID=UTC:20221025T170000
DTSTAMP:20260420T072100
CREATED:20221102T172056Z
LAST-MODIFIED:20221102T172056Z
UID:2596-1666710000-1666717200@potentialistfuture.com
SUMMARY:Delta Dental with Ben Lytle
DESCRIPTION:
URL:https://potentialistfuture.com/event/delta-dental-with-ben-lytle/
LOCATION:Delta Dental of Kentucky\, Louisville\, Kentucky
END:VEVENT
BEGIN:VEVENT
DTSTART;TZID=UTC:20221026T133000
DTEND;TZID=UTC:20221026T150000
DTSTAMP:20260420T072100
CREATED:20221102T171824Z
LAST-MODIFIED:20221102T171824Z
UID:2593-1666791000-1666796400@potentialistfuture.com
SUMMARY:The Potentialist I: Your Future in the New Reality of the Next Thirty Years
DESCRIPTION:
URL:https://potentialistfuture.com/event/the-potentialist-i-your-future-in-the-new-reality-of-the-next-thirty-years-3/
LOCATION:Boston\, MA
END:VEVENT
END:VCALENDAR