BEGIN:VCALENDAR
VERSION:2.0
PRODID:-//Ben Lytle - ECPv6.14.0//NONSGML v1.0//EN
CALSCALE:GREGORIAN
METHOD:PUBLISH
X-WR-CALNAME:Ben Lytle
X-ORIGINAL-URL:https://potentialistfuture.com
X-WR-CALDESC:Events for Ben Lytle
REFRESH-INTERVAL;VALUE=DURATION:PT1H
X-Robots-Tag:noindex
X-PUBLISHED-TTL:PT1H
BEGIN:VTIMEZONE
TZID:America/New_York
BEGIN:DAYLIGHT
TZOFFSETFROM:-0500
TZOFFSETTO:-0400
TZNAME:EDT
DTSTART:20220313T070000
END:DAYLIGHT
BEGIN:STANDARD
TZOFFSETFROM:-0400
TZOFFSETTO:-0500
TZNAME:EST
DTSTART:20221106T060000
END:STANDARD
BEGIN:DAYLIGHT
TZOFFSETFROM:-0500
TZOFFSETTO:-0400
TZNAME:EDT
DTSTART:20230312T070000
END:DAYLIGHT
BEGIN:STANDARD
TZOFFSETFROM:-0400
TZOFFSETTO:-0500
TZNAME:EST
DTSTART:20231105T060000
END:STANDARD
END:VTIMEZONE
BEGIN:VTIMEZONE
TZID:UTC
BEGIN:STANDARD
TZOFFSETFROM:+0000
TZOFFSETTO:+0000
TZNAME:UTC
DTSTART:20220101T000000
END:STANDARD
END:VTIMEZONE
BEGIN:VTIMEZONE
TZID:America/Chicago
BEGIN:DAYLIGHT
TZOFFSETFROM:-0600
TZOFFSETTO:-0500
TZNAME:CDT
DTSTART:20230312T080000
END:DAYLIGHT
BEGIN:STANDARD
TZOFFSETFROM:-0500
TZOFFSETTO:-0600
TZNAME:CST
DTSTART:20231105T070000
END:STANDARD
END:VTIMEZONE
BEGIN:VTIMEZONE
TZID:America/Los_Angeles
BEGIN:DAYLIGHT
TZOFFSETFROM:-0800
TZOFFSETTO:-0700
TZNAME:PDT
DTSTART:20230312T100000
END:DAYLIGHT
BEGIN:STANDARD
TZOFFSETFROM:-0700
TZOFFSETTO:-0800
TZNAME:PST
DTSTART:20231105T090000
END:STANDARD
END:VTIMEZONE
BEGIN:VEVENT
DTSTART;TZID=America/New_York:20221110T133000
DTEND;TZID=America/New_York:20221110T143000
DTSTAMP:20260420T071830
CREATED:20221027T022409Z
LAST-MODIFIED:20221114T171633Z
UID:2591-1668087000-1668090600@potentialistfuture.com
SUMMARY:Kiplinger Presents: Taking the First Steps to Achieve Your Business and Financial Potential
DESCRIPTION:Serial entrepreneur and visionary Ben Lytle is swapping the boardroom for the interview chair in this exclusive discussion\, in the first of our brand new live series\, In Conversation with The Week and Kiplinger. \nHe’s one of the most successful and influential businessmen in the US\, with five successful companies\, a leading health organization in the top 30 of the Fortune 500\, and founder of the world’s 7th largest insurance broker. \n\n\n\n\n\nThis session\, hosted by Jim Patterson\, Managing Editor of The Kiplinger Letter will include;\n\n\n\n\n\n\nWhy and how the pace of life will become more turbulent for individuals and families\nHow to take the first steps to achieve your business and financial potential and accelerate wisdom\nHow the forces of change will create a better world – a “New Reality” — by breaking down the one we know\, and usher in a brave new world of advanced technology from both a professional and personal standpoint.\nSuccessful techniques to discard potential-limiting mindsets and wasteful habits\nHow these changes will affect our lives and how to act now to adapt and future proof your business\,  professional  and family life\n\n  \nBen’s story is truly inspiring. He’s just one of many fascinating speakers we’ll be bringing to you in this new series. \nRegister free now to reserve your place to hear from one of the most in-demand entrepreneurs of today through our live virtual event platform. Plus\, you’ll have the chance to submit your questions to Ben throughout the event and hear answers unscripted.
URL:https://potentialistfuture.com/event/in-conversation-with-ben-lytle/
LOCATION:Texas
CATEGORIES:Public
END:VEVENT
BEGIN:VEVENT
DTSTART;VALUE=DATE:20221209
DTEND;VALUE=DATE:20221210
DTSTAMP:20260420T071830
CREATED:20221206T153506Z
LAST-MODIFIED:20221206T153506Z
UID:2608-1670544000-1670630399@potentialistfuture.com
SUMMARY:Senior1Care Annual Meeting
DESCRIPTION:
URL:https://potentialistfuture.com/event/senior1care-annual-meeting/
LOCATION:Fort Wayne\, IN
CATEGORIES:Private
END:VEVENT
BEGIN:VEVENT
DTSTART;TZID=UTC:20221213T140000
DTEND;TZID=UTC:20221213T150000
DTSTAMP:20260420T071830
CREATED:20221206T153535Z
LAST-MODIFIED:20221207T190544Z
UID:2609-1670940000-1670943600@potentialistfuture.com
SUMMARY:Free Webinar: How to Future-Proof Your Sales & Marketing Strategy
DESCRIPTION:Lead Like a Superhero\nA Special Focus Report and Live Webinar \n \nThe emerging tools and technologies that business leaders continue to accrue can make them feel as though they’re the heroes of their own comic book movie franchise. The next generation of leaders will be sharper\, quicker and more adept at leading teams with maximum efficiency and impact. \nIn a new Focus Report from Sales & Marketing Management\, Ben Lytle\, visionary entrepreneur and founder of insurance giant Anthem\, presents insights on how to manage teams into the 2030s and beyond. The report is based on Lytle’s new book\, “The Potentialist: Your Future in the New Reality of the Next Thirty Years.” \nIn the report as well as in an accompanying free live Webinar scheduled for Dec. 13\, Lytle addresses: \n\nLeadership: The Top 7 new world realities leaders will face in the coming year\nCustomer Experience: How new technologies might provide a seamless experience\nCollaboration: Why removing barriers to collaboration will open up new paths of innovation\nEntrepreneurship: The traditional 9-to-5 career model is over. Here’s what’s next\nBranding: Ways to exponentially increase relationships and make branding a whole new ballgame\n\nDownload the Focus Report in PDF format and share with colleagues or read the stories separately here. \nLearn more about the Dec. 13 webinar and register to attend here. Registrants will be provided access to the recording of the webinar. \nThis Focus Report and the accompanying webinar are produced in partnership with Meryl Moss Media Group and the Smart Works Collaborative.
URL:https://potentialistfuture.com/event/how-to-future-proof-your-sales-marketing-strategy/
LOCATION:Texas
CATEGORIES:Public
END:VEVENT
BEGIN:VEVENT
DTSTART;TZID=UTC:20230111T120000
DTEND;TZID=UTC:20230111T130000
DTSTAMP:20260420T071830
CREATED:20230111T011051Z
LAST-MODIFIED:20230111T011051Z
UID:2617-1673438400-1673442000@potentialistfuture.com
SUMMARY:THE POTENTIALIST Your Future in the New Reality of the Next Thirty Years
DESCRIPTION:Harvard Alumni in Healthcare\, HBS Club of Toronto\, HBS HAA and fellow HBS/Harvard Clubs invite you to a conversation with Ben Lytle. \n— \n\n\nTransformational disruptions are coming. Instead of having your head in the clouds\, the cloud will be in your head – thanks to brain-to-computer interface (BCI) – leaving you with just two choices\, adapt or be left behind. Ben Lytle lays out what’s next and how to get ready for it in his indispensable new book\, THE POTENTIALIST: Your Future in the New Reality of the Next Thirty Years (Amazon). Lytle has written a Future Shock for the 21st century\, explaining how every one of us can thrive during these rapid changes by becoming a Potentialist. Boris Tsimerinov\, Board Member of Harvard Alumni in Healthcare and President of the HBS Club of Toronto will speak with Ben Lytle. \nThe next 30 years will include a seismic shift in well-known institutions – such as government\, education\, religion\, news media\, and reliance on employers. Lytle looks at this new future through a lens of opportunity\, not anxiety and fear\, while emphasizing that now is the time to take action. \nTopics include: \n\nFuturist vs Potentialist\nNeed to act now to make necessary changes and preparations\nDemocratization & Deinstitutionalization\nCareers\, Brands\, & Entrepreneurs\nSuperhumans & Cyborgs\nOptimizing health as life expectancy expands\nRefinement vs Retirement\n\nWith years of research and extensive entrepreneurial experience at Fortune 500 companies\, startups\, and midsized companies\,  Lytle explains in simple terms the New Reality\, democratization\, and how to differentiate yourself and succeed. He covers how technology will impact human abilities and our world\, and what to expect regarding careers\, healthcare\, wealth\, and new definitions for success\, residency\, and retirement. \nLytle says accelerating change\, democratization\, and deinstitutionalization are not about doom and gloom\, but unparalleled opportunity for everyone who acts to seize it. The goal is a higher level of personal performance and a broader perspective of the changes afoot. He offers immediate steps to improve personal readiness for the future while leaving the world a little better in the process. \nBEN LYTLE is a self-made serial entrepreneur-CEO known for being ahead of the curve. Creating meaningful impact at various levels of scale\, adjusting and thriving during change\, Lytle now is a thought leader on the future. He launched five successful companies\, two listing on the New York Stock Exchange. His best-known success being Anthem\, with a current market value of more than $100 billion. He is a healthcare policy expert who served on state and presidential healthcare commissions\, and a governance leader with extensive public company experience. \n\n\n\n\n“Ben’s perspective as a proven entrepreneur and leader at the highest levels of business provides the perfect roadmap for growth and success in the new era of business and life.” \nJosh Linker\, five-time tech entrepreneur\, New York Times best-selling author \n  \n“This book has startling revelations and depth\, yet it oozes with hope–not fear. Ben posits that the choices we make now are not only smart but necessary; a chance to embrace the unparalleled opportunity in a brave new world of advanced technology without sacrificing our humanity along the way.” \nAnne Ryder\, Senior Lecturer of Journalism\, Indiana University; Former Emmy Award-winning anchor/reporter \n  \n“Ben’s insights and experiences provide great insights and practical advice for navigating the coming years both from a professional and personal standpoint. \nRob Rosenberg\, Global Head of Human Resources\, DHL Supply Chain \n  \n\n\n\n\nBEN LYTLE is a serial entrepreneur and health-care innovator known for being ahead of the curve. He launched five successful companies\, including two on the New York Stock Exchange. The best known is Anthem\, one of three leading U.S. health plans with a market capitalization placing it in the top 30 of the Fortune 500. He also founded Acordia\, Inc.\, which became the world’s 7th largest insurance broker. \nHe is the author of the new book\, The Potentialist: Your Future in the New Reality of the Next Thirty Years\, with two companion books to follow in 2023 and 2024. The series is intended as a guidebook for success during the fast-changing\, turbulent\, and opportunity-rich times ahead — named The Fourth Industrial Revolution by the World Economic Forum. \nBen has extensive public policy experience as chairman of Indiana’s Healthcare Commission and the Foundation for Better Health\, as a member of President Bill Clinton’s Commission on Consumer Protection and Healthcare Quality\, and as a board member of the American Enterprise Institute\, one of the nation’s leading public policy organizations. He has provided testimony to congressional committees and state legislatures and advised state and federal executive branches on health-care issues. \nLytle’s devotion to individual and collective human potential through accelerated wisdom guides his writing\, speaking\, entrepreneurial energy\, and investments. He believes people and organizations today underestimate the extent and speed with which the world will change.
URL:https://potentialistfuture.com/event/the-potentialist-your-future-in-the-new-reality-of-the-next-thirty-years/
LOCATION:Online
CATEGORIES:Public
END:VEVENT
BEGIN:VEVENT
DTSTART;TZID=America/New_York:20230113T121500
DTEND;TZID=America/New_York:20230113T131500
DTSTAMP:20260420T071830
CREATED:20221027T021742Z
LAST-MODIFIED:20230104T193028Z
UID:2587-1673612100-1673615700@potentialistfuture.com
SUMMARY:USF Event: The Potentialist I: Your Future in the New Reality of the Next Thirty Years
DESCRIPTION:This is a virtual presentation that requires preregistration.\nMembers of the public can register after after December 1 by calling 813-974-5848 or emailing charise2@usf.edu
URL:https://potentialistfuture.com/event/the-potentialist-i-your-future-in-the-new-reality-of-the-next-thirty-years/
LOCATION:Texas
CATEGORIES:Public
END:VEVENT
BEGIN:VEVENT
DTSTART;TZID=America/Chicago:20230209T120000
DTEND;TZID=America/Chicago:20230209T140000
DTSTAMP:20260420T071830
CREATED:20221027T021420Z
LAST-MODIFIED:20221027T021420Z
UID:2584-1675944000-1675951200@potentialistfuture.com
SUMMARY:DAC Beavers Luncheon
DESCRIPTION:
URL:https://potentialistfuture.com/event/dac-beavers-luncheon/
LOCATION:Detroit Athletic Club
END:VEVENT
BEGIN:VEVENT
DTSTART;TZID=America/Los_Angeles:20230222T100000
DTEND;TZID=America/Los_Angeles:20230222T120000
DTSTAMP:20260420T071830
CREATED:20221027T021946Z
LAST-MODIFIED:20221027T021946Z
UID:2589-1677060000-1677067200@potentialistfuture.com
SUMMARY:The Potentialist I: Your Future in the New Reality of the Next Thirty Years
DESCRIPTION:
URL:https://potentialistfuture.com/event/the-potentialist-i-your-future-in-the-new-reality-of-the-next-thirty-years-2/
LOCATION:Texas
END:VEVENT
BEGIN:VEVENT
DTSTART;TZID=UTC:20230419T190000
DTEND;TZID=UTC:20230419T190000
DTSTAMP:20260420T071830
CREATED:20230619T183302Z
LAST-MODIFIED:20230619T185407Z
UID:2660-1681930800-1681930800@potentialistfuture.com
SUMMARY:How to Prepare Your Child NOW for the Next Phase in Education Webinar #1/3
DESCRIPTION:Should I Send My Kid to College?\nHow to Prepare Your Child NOW for the Future of Education \nIt’s becoming harder and harder to tell our kids and grandkids that spending six figures for an undergraduate degree is the only way to prepare for the future. The time has come to explore the future of higher education and alternatives that may better prepare our youth for rewarding careers. \nJoin authors Ben Lytle and Kerry Hannon for a powerful new livestream webinar series addressing three key concerns: \nSession #1: 4/19 @ 7pm EST: Higher Ed’s Big Problem – Is college the right answer for our kids’ success?\nLink to webinar \n\nThe history of college and how its purpose — and value proposition — has morphed over time.\nIs college intended for career prep or life prep?\nWhy is the cost of higher education skyrocketing?\nWhat existential problems do colleges and universities face now and in the next 5-10 years?\nThe operating paradigm for most parents over the last half century has been “my child won’t be successful in life without a degree.” Is this still valid?\nStudies report that individuals with degrees earn more—will this be true in five years? Ten years? Twenty years?\n\n\n  \nSession #2: 4/26 @ 7pm EST: The Education System of the Future – The personalization of education\n\n  \nSession #3: 5/3 @ 7pm EST: The Potentialist’s Action Plan – Get a jump on the new reality\n  \nThis FREE\, interactive webinar series could be a life-changing educational event for you and your family.
URL:https://potentialistfuture.com/event/future-u-webinar-series-1/
LOCATION:Virtual
CATEGORIES:Public
END:VEVENT
BEGIN:VEVENT
DTSTART;TZID=UTC:20230426T190000
DTEND;TZID=UTC:20230426T190000
DTSTAMP:20260420T071830
CREATED:20230619T184501Z
LAST-MODIFIED:20230619T185454Z
UID:2662-1682535600-1682535600@potentialistfuture.com
SUMMARY:How to Prepare Your Child NOW for the Next Phase in Education Webinar #2/3
DESCRIPTION:Should I Send My Kid to College?\nHow to Prepare Your Child NOW for the Future of Education \nIt’s becoming harder and harder to tell our kids and grandkids that spending six figures for an undergraduate degree is the only way to prepare for the future. The time has come to explore the future of higher education and alternatives that may better prepare our youth for rewarding careers. \nJoin authors Ben Lytle and Kerry Hannon for a powerful new livestream webinar series addressing three key concerns: \nSession #1: 4/19 @ 7pm EST: Higher Ed’s Big Problem – Is college the right answer for our kids’ success?\n  \nSession #2: 4/26 @ 7pm EST: The Education System of the Future – The personalization of education\nLink to webinar \n\nWhy does the focus need to shift from teaching to individualized learning?\nWhat role will the Cloud play in future higher education?\nWhat is accelerated wisdom and how will it create new paths for higher education and career prep?\nHow can we determine today the best path towards tomorrow’s rewarding career and successful adulthood?\nWhat does democratized education look like and how does it benefit students and their families?\nWhat are the merits of a lifelong learning model and which tools or platforms can best support it?\n\n\n  \nSession #3: 5/3 @ 7pm EST: The Potentialist’s Action Plan – Get a jump on the new reality\n  \nThis FREE\, interactive webinar series could be a life-changing educational event for you and your family.
URL:https://potentialistfuture.com/event/how-to-prepare-your-child-now-for-the-next-phase-in-education-webinar-2/
LOCATION:Virtual
CATEGORIES:Public
END:VEVENT
BEGIN:VEVENT
DTSTART;TZID=UTC:20230503T190000
DTEND;TZID=UTC:20230503T190000
DTSTAMP:20260420T071830
CREATED:20230619T184503Z
LAST-MODIFIED:20230619T185514Z
UID:2663-1683140400-1683140400@potentialistfuture.com
SUMMARY:How to Prepare Your Child NOW for the Next Phase in Education Webinar #3/3
DESCRIPTION:Should I Send My Kid to College?\nHow to Prepare Your Child NOW for the Future of Education \nIt’s becoming harder and harder to tell our kids and grandkids that spending six figures for an undergraduate degree is the only way to prepare for the future. The time has come to explore the future of higher education and alternatives that may better prepare our youth for rewarding careers. \nJoin authors Ben Lytle and Kerry Hannon for a powerful new livestream webinar series addressing three key concerns: \nSession #1: 4/19 @ 7pm EST: Higher Ed’s Big Problem – Is college the right answer for our kids’ success?\n\n  \nSession #2: 4/26 @ 7pm EST: The Education System of the Future – The personalization of education\n  \nSession #3: 5/3 @ 7pm EST: The Potentialist’s Action Plan – Get a jump on the new reality\nLink to webinar \n\nWhat is “new work” and how can young people prepare for it?\nWhat are the most important things a young person can do to prepare for a rewarding career?\nWhat are the most important things families can do to help?\nWhat careers are “future careers”?\n\n  \nThis FREE\, interactive webinar series could be a life-changing educational event for you and your family.
URL:https://potentialistfuture.com/event/how-to-prepare-your-child-now-for-the-next-phase-in-education-webinar-3/
LOCATION:Virtual
CATEGORIES:Public
END:VEVENT
BEGIN:VEVENT
DTSTART;TZID=America/New_York:20230518T180000
DTEND;TZID=America/New_York:20230518T180000
DTSTAMP:20260420T071830
CREATED:20230609T180929Z
LAST-MODIFIED:20230609T180929Z
UID:2654-1684432800-1684432800@potentialistfuture.com
SUMMARY:The Harvard Club of NYC
DESCRIPTION:
URL:https://potentialistfuture.com/event/the-harvard-club-of-nyc/
LOCATION:Harvard Club of NYC
CATEGORIES:Private
END:VEVENT
BEGIN:VEVENT
DTSTART;TZID=America/New_York:20230622T183000
DTEND;TZID=America/New_York:20230622T193000
DTSTAMP:20260420T071830
CREATED:20230609T181225Z
LAST-MODIFIED:20230609T181225Z
UID:2657-1687458600-1687462200@potentialistfuture.com
SUMMARY:The Potentialist with Author Ben Lytle
DESCRIPTION:Join former Chair and CEO of Anthem Healthcare\, Ben Lytle\, a self-made serial entrepreneur CEO\, to discuss his new book The Potentialist: Your Future in the New Reality of the Next Thirty Years. In this new work\, Ben argues that there will be more life-altering change in the next 30 years than most people can fathom. Work\, jobs\, careers\, and lifestyles will be replaced with more enriching opportunities for those who are prepared. The problem? Most people are unaware of the coming changes or how to adapt and prosper. \nHealthcare as we know it is being disrupted\, Ben says\, we’re down a million nurses. We’re all waiting months to see any specialist and some internal medical doctors simply cannot take-on more patients. What happens in the next decades and how does AI play into the future of healthcare\, pharma and medicine. \nWhat Ben’s really focused on is how companies\, the individuals who work there\, and their families at home can prepare for trends today that will develop at warp speed tomorrow. \nBen looks at this new future through a lens of opportunity\, not anxiety and fear\, while emphasizing now is the time to take action for all of us – from single parents to major Business CEOs. How we can be prepared\, be pro-active and reach our potential as the world shifts and quickly in coming decades. As a result\, the once impossible\, becomes possible and that becomes a new reality \nAbout the author: \nBen Lytle is a self-made serial entrepreneur-CEO known for being ahead of the curve. Adjusting and thriving during change\, Lytle now is a thought leader on the future. He launched five successful companies\, two listing on the New York Stock Exchange. His best-known success is Anthem\, with a current market value of more than $100 billion. He is a healthcare policy expert who served on state and presidential healthcare commissions\, and a governance leader with extensive public company experience. Learn more at https://potentialistfuture.com/. \nThe Potentialist can be purchased at Amplify Publishing Group\, Barnes & Noble\, or Amazon.
URL:https://potentialistfuture.com/event/the-potentialist-with-author-ben-lytle/
LOCATION:Online
CATEGORIES:Public
END:VEVENT
BEGIN:VEVENT
DTSTART;TZID=UTC:20240910T133000
DTEND;TZID=UTC:20240910T173000
DTSTAMP:20260420T071830
CREATED:20240809T195356Z
LAST-MODIFIED:20240809T195611Z
UID:2716-1725975000-1725989400@potentialistfuture.com
SUMMARY:Medtech Expo | PLUGandPLAY Indiana | Warsaw\, Indiana
DESCRIPTION:Get ready for a thrilling day at our Batch 1 Medtech Expo\, where groundbreaking ideas meet unparalleled opportunities! Experience the thrill as the startups from the Plug and Play Medtech program take the stage to pitch their revolutionary technologies. Witness the future of technology as startups showcase their cutting-edge solutions in medical technology. Engage in thought-provoking conversations with industry leaders about the latest trends and the future of innovation.
URL:https://potentialistfuture.com/event/medtech-expo-plugandplay-indiana-warsaw-indiana/
LOCATION:Texas
END:VEVENT
BEGIN:VEVENT
DTSTART;TZID=UTC:20241009T180000
DTEND;TZID=UTC:20241009T193000
DTSTAMP:20260420T071830
CREATED:20240816T142237Z
LAST-MODIFIED:20240816T142237Z
UID:2720-1728496800-1728502200@potentialistfuture.com
SUMMARY:"The Pursuit of Wisdom" Literary Salon
DESCRIPTION:
URL:https://potentialistfuture.com/event/the-pursuit-of-wisdom-literary-salon/
LOCATION:The Park House\, 100 Highland Park Village Level 3\, Dallas\, 75205\, United States
CATEGORIES:Private
END:VEVENT
BEGIN:VEVENT
DTSTART;TZID=UTC:20241010T120000
DTEND;TZID=UTC:20241010T140000
DTSTAMP:20260420T071830
CREATED:20240731T161306Z
LAST-MODIFIED:20240731T161306Z
UID:2700-1728561600-1728568800@potentialistfuture.com
SUMMARY:"The Potentialist: The Pursuit of Wisdom" Talk and Luncheon with Ben Lytle
DESCRIPTION:
URL:https://potentialistfuture.com/event/the-potentialist-the-pursuit-of-wisdom-talk-and-luncheon-with-ben-lytle/
LOCATION:Petroleum Club\, 1201 Louisiana St f35\, Houston\, TX\, 77002\, United States
CATEGORIES:Private
END:VEVENT
BEGIN:VEVENT
DTSTART;TZID=UTC:20241023T120000
DTEND;TZID=UTC:20241023T140000
DTSTAMP:20260420T071830
CREATED:20240731T161429Z
LAST-MODIFIED:20240731T161429Z
UID:2702-1729684800-1729692000@potentialistfuture.com
SUMMARY:"The Potentialist: The Pursuit of Wisdom" Luncheon Event
DESCRIPTION:
URL:https://potentialistfuture.com/event/the-potentialist-the-pursuit-of-wisdom-luncheon-event/
LOCATION:University Club of New York
CATEGORIES:Private
END:VEVENT
BEGIN:VEVENT
DTSTART;TZID=UTC:20241023T183000
DTEND;TZID=UTC:20241023T190000
DTSTAMP:20260420T071830
CREATED:20240731T161614Z
LAST-MODIFIED:20240731T161614Z
UID:2704-1729708200-1729710000@potentialistfuture.com
SUMMARY:"The Potentialist: The Pursuit of Wisdom" Evening Book Talk
DESCRIPTION:
URL:https://potentialistfuture.com/event/the-potentialist-the-pursuit-of-wisdom-evening-book-talk/
LOCATION:Down Town Association\, 60 Pine St\, New York\, NY\, 10005\, United States
CATEGORIES:Private
END:VEVENT
BEGIN:VEVENT
DTSTART;TZID=UTC:20241218T110000
DTEND;TZID=UTC:20241218T134500
DTSTAMP:20260420T071830
CREATED:20241121T014445Z
LAST-MODIFIED:20241121T014445Z
UID:2785-1734519600-1734529500@potentialistfuture.com
SUMMARY:The Fort Worth Club
DESCRIPTION:Discover the transformative power of the Potentialist Movement with Ben Lytle\, a visionary entrepreneur and CEO who has consistently stayed ahead of the curve. Gain insights into how emerging technologies will reshape our world—eliminating barriers like language\, location\, and even lifespan—and learn how to seize the opportunities these advancements will bring.\nBen will share his expertise on optimizing health\, wealth\, and success in a technology-driven future. Attendees will also have the chance to purchase an autographed copy of his latest book. \nThis is an intimate event with limited space\, so we encourage FWC Members to register now to secure a spot! \nRegister in your Member Portal: https://lnkd.in/gxTuyGWN
URL:https://potentialistfuture.com/event/the-fort-worth-club/
LOCATION:The Fort Worth Club\, 306 West 7th Street\, Fort Worth\, Texas\, 76102
END:VEVENT
END:VCALENDAR